BEGIN:VCALENDAR
VERSION:2.0
PRODID:-//Young Supply Company - ECPv6.15.20//NONSGML v1.0//EN
CALSCALE:GREGORIAN
METHOD:PUBLISH
X-WR-CALNAME:Young Supply Company
X-ORIGINAL-URL:https://www.youngsupply.com
X-WR-CALDESC:Events for Young Supply Company
REFRESH-INTERVAL;VALUE=DURATION:PT1H
X-Robots-Tag:noindex
X-PUBLISHED-TTL:PT1H
BEGIN:VTIMEZONE
TZID:America/Detroit
BEGIN:DAYLIGHT
TZOFFSETFROM:-0500
TZOFFSETTO:-0400
TZNAME:EDT
DTSTART:20230312T070000
END:DAYLIGHT
BEGIN:STANDARD
TZOFFSETFROM:-0400
TZOFFSETTO:-0500
TZNAME:EST
DTSTART:20231105T060000
END:STANDARD
BEGIN:DAYLIGHT
TZOFFSETFROM:-0500
TZOFFSETTO:-0400
TZNAME:EDT
DTSTART:20240310T070000
END:DAYLIGHT
BEGIN:STANDARD
TZOFFSETFROM:-0400
TZOFFSETTO:-0500
TZNAME:EST
DTSTART:20241103T060000
END:STANDARD
BEGIN:DAYLIGHT
TZOFFSETFROM:-0500
TZOFFSETTO:-0400
TZNAME:EDT
DTSTART:20250309T070000
END:DAYLIGHT
BEGIN:STANDARD
TZOFFSETFROM:-0400
TZOFFSETTO:-0500
TZNAME:EST
DTSTART:20251102T060000
END:STANDARD
BEGIN:DAYLIGHT
TZOFFSETFROM:-0500
TZOFFSETTO:-0400
TZNAME:EDT
DTSTART:20260308T070000
END:DAYLIGHT
BEGIN:STANDARD
TZOFFSETFROM:-0400
TZOFFSETTO:-0500
TZNAME:EST
DTSTART:20261101T060000
END:STANDARD
BEGIN:DAYLIGHT
TZOFFSETFROM:-0500
TZOFFSETTO:-0400
TZNAME:EDT
DTSTART:20270314T070000
END:DAYLIGHT
BEGIN:STANDARD
TZOFFSETFROM:-0400
TZOFFSETTO:-0500
TZNAME:EST
DTSTART:20271107T060000
END:STANDARD
END:VTIMEZONE
BEGIN:VEVENT
DTSTART;TZID=America/Detroit:20260317T080000
DTEND;TZID=America/Detroit:20260317T120000
DTSTAMP:20260425T181420
CREATED:20260115T162153Z
LAST-MODIFIED:20260210T181723Z
UID:10000469-1773734400-1773748800@www.youngsupply.com
SUMMARY:BIRCH RUN - 3/17/26 Rheem RD16-18 Universal Heat Pumps
DESCRIPTION:During this class we will do an overview of the outdoor equipment\, discuss the outdoor unit components\, their purpose and how they function. We will review the application and installation of the heat pump in a universal and dual fuel installation. Start up procedures and commissioning processes will be reviewed. We will also review the sequence of operation in heating\, cooling and defrost modes when operated with Econet\, 24-volt legacy control using the Rheem algorithm as well as 24-volt legacy and two stage operation. Finally\, a discussion about component troubleshooting. \nTuesday\, March 17\, 2026 8AM – 12PM\nInstructed by – Larry Marhofer and Dave Fletcher \nLocation: Comfort Inn – 11911 Dixie Hwy. Birch Run\, MI 48415 \nThis class has reached it capacity and you will be added to the standby list. We apologize for any inconvenience.
URL:https://www.youngsupply.com/training/saginaw-3-17-26-rheem-rd16-18-universal-heat-pumps/
LOCATION:BIRCH RUN – Comfort Inn\, 11911 Dixie Hwy\, Birch Run\, MI\, 48415\, United States
CATEGORIES:ALL EVENTS & TRAINING,HVAC,Training
ATTACH;FMTTYPE=image/jpeg:https://www.youngsupply.com/wp-content/uploads/2019/03/Rheem-class-logo.jpg
END:VEVENT
BEGIN:VEVENT
DTSTART;TZID=America/Detroit:20250909T090000
DTEND;TZID=America/Detroit:20250909T120000
DTSTAMP:20260425T181420
CREATED:20250819T192248Z
LAST-MODIFIED:20250819T192631Z
UID:10000449-1757408400-1757419200@www.youngsupply.com
SUMMARY:BIRCH RUN - 9/9/25 - Rooftop Gas/Electric Training
DESCRIPTION:Rooftops Gas/Electrics Training\nClass Instructors – Young Supply’s own Larry Marhofer – Dave Fletcher \nDATE & TIME: Tuesday\, September 9\, 2025 – 9:00AM – 12:00PM \nLOCATION: COMFORT INN – BIRCH RUN – 11911 Dixie Hwy Birch Run\, MI 48415 \nThis class will focus on unit operation and set up of DDC and non DDC control systems internal to the equipment as well as the appropriate Economizers and VFDs. \n\n\n                \n                        \n                            BIRCH RUN - 9/9/25 - Rooftops Gas/Electrics Training\n                             \n                        \n                        Participant InformationCompany Name*Phone*Phone number will be used to contact you in the event of last minute changes to class. Attendee Name*\n                            \n                            \n                                                    \n                                                    First\n                                                \n                            \n                            \n                                                    \n                                                    Last\n                                                \n                            \n                        (If registering more than one person\, please register each separately as class size is limited)Email Address for class registration confirmation email.*\n                            \n                        Class Information \nLOCATION: COMFORT INN - BIRCH RUN \nCLASS NAME: Rooftop Gas/Electrics Training \nWHEN: September 9\, 2025 9AM - 12:00PM \nADDITIONAL INFO: This class will focus on unit operation and set up of DDC and non DDC control systems internal to the equipment as well as the appropriate Economizers and VFDs.  \n \n This field is hidden when viewing the formPayment InformationClass Fee = $120This field is hidden when viewing the formPlease Select a Method of Payment\n			\n				\n				Charge to my Young Supply Account\n			\n			\n				\n				Cash\n			\n			\n				\n				Credit Card\n			Young Supply Account # (if applicable)This field is hidden when viewing the formPO #This field is hidden when viewing the formCheck #Please reference the class name & number and mail payment to the address indicated belowIf paying with credit card\, please leave your name and phone number in the Comments section below and someone will contact you.  DO NOT leave your credit card number.Comments:SignatureFor your protection\, please call the number listed below to process a credit card payment. CAPTCHA
URL:https://www.youngsupply.com/training/birch-run-9-9-25-rooftop-gas-electric-training/
LOCATION:BIRCH RUN – Comfort Inn\, 11911 Dixie Hwy\, Birch Run\, MI\, 48415\, United States
CATEGORIES:ALL EVENTS & TRAINING,Food Service Equipment,HVAC,Refrigeration,Training
ATTACH;FMTTYPE=image/jpeg:https://www.youngsupply.com/wp-content/uploads/2025/08/Copy-of-Rheem-Gas_Electric-Commercial-Equipment-and-Accessories.jpg
END:VEVENT
BEGIN:VEVENT
DTSTART;TZID=America/Detroit:20240509T080000
DTEND;TZID=America/Detroit:20240509T120000
DTSTAMP:20260425T181420
CREATED:20240426T190107Z
LAST-MODIFIED:20240426T190656Z
UID:10000346-1715241600-1715256000@www.youngsupply.com
SUMMARY:BIRCH RUN - 5/9/24 - Mitsubishi M&P 4 Hour Field Service Class
DESCRIPTION:The Mitsubishi M&P 4 Hour Field Service Class provides participants with an understanding of the fundamentals of Mitsubishi Mr. Slim systems. During this 4-hour seminar you will be introduced to the concepts and theories of operation – including an overview of the unique technologies employed – system design\, installation\, and the fundamentals of troubleshooting M-series and P-series systems. \nClass Instructor: Brent Cox. \n$35 fee billed on day of class. Limited to 25 students.
URL:https://www.youngsupply.com/training/birch-run-5-9-24-mitsubishi-mp-4-hour-field-service-class/
LOCATION:BIRCH RUN – Comfort Inn\, 11911 Dixie Hwy\, Birch Run\, MI\, 48415\, United States
CATEGORIES:ALL EVENTS & TRAINING,HVAC
ATTACH;FMTTYPE=image/jpeg:https://www.youngsupply.com/wp-content/uploads/2023/03/Mitsubishi-logo.jpg
END:VEVENT
END:VCALENDAR